Package: flowWorkspaceData Version: 3.19.0 Command: /home/biocbuild/bbs-3.21-bioc/R/bin/R CMD check --install=check:flowWorkspaceData.install-out.txt --library=/home/biocbuild/bbs-3.21-bioc/R/site-library --timings flowWorkspaceData_3.19.0.tar.gz StartedAt: 2025-02-04 12:05:44 -0500 (Tue, 04 Feb 2025) EndedAt: 2025-02-04 12:06:00 -0500 (Tue, 04 Feb 2025) EllapsedTime: 16.0 seconds RetCode: 0 Status: OK CheckDir: flowWorkspaceData.Rcheck Warnings: 0