Package: gDNAinRNAseqData Version: 1.7.0 Command: /home/biocbuild/bbs-3.21-bioc/R/bin/R CMD INSTALL gDNAinRNAseqData StartedAt: 2025-02-13 11:03:13 -0500 (Thu, 13 Feb 2025) EndedAt: 2025-02-13 11:03:30 -0500 (Thu, 13 Feb 2025) EllapsedTime: 17.2 seconds RetCode: 0 Status: OK