Package: gageData Version: 2.45.0 Command: /home/biocbuild/bbs-3.21-bioc/R/bin/R CMD build --keep-empty-dirs --no-resave-data gageData StartedAt: 2025-02-06 11:18:54 -0500 (Thu, 06 Feb 2025) EndedAt: 2025-02-06 11:18:58 -0500 (Thu, 06 Feb 2025) EllapsedTime: 4.6 seconds RetCode: 0 Status: OK PackageFile: gageData_2.45.0.tar.gz PackageFileSize: 10.59 MiB