Package: hapmap500knsp Version: 1.49.0 Command: /home/biocbuild/bbs-3.21-bioc/R/bin/R CMD INSTALL hapmap500knsp StartedAt: 2025-02-06 10:55:34 -0500 (Thu, 06 Feb 2025) EndedAt: 2025-02-06 10:55:36 -0500 (Thu, 06 Feb 2025) EllapsedTime: 2.6 seconds RetCode: 0 Status: OK