Package: healthyFlowData Version: 1.45.0 Command: /home/biocbuild/bbs-3.21-bioc/R/bin/R CMD INSTALL healthyFlowData StartedAt: 2025-02-13 10:56:36 -0500 (Thu, 13 Feb 2025) EndedAt: 2025-02-13 10:56:40 -0500 (Thu, 13 Feb 2025) EllapsedTime: 3.8 seconds RetCode: 0 Status: OK