Package: hgu2beta7 Version: 1.47.0 Command: /home/biocbuild/bbs-3.21-bioc/R/bin/R CMD check --install=check:hgu2beta7.install-out.txt --library=/home/biocbuild/bbs-3.21-bioc/R/site-library --timings hgu2beta7_1.47.0.tar.gz StartedAt: 2025-02-06 12:11:31 -0500 (Thu, 06 Feb 2025) EndedAt: 2025-02-06 12:11:48 -0500 (Thu, 06 Feb 2025) EllapsedTime: 16.6 seconds RetCode: 0 Status: WARNINGS CheckDir: hgu2beta7.Rcheck Warnings: 4