Package: humanHippocampus2024 Version: 0.99.8 Maintainer: Christine Hou MaintainerEmail: chris2018hou at gmail.com git_url: https://git.bioconductor.org/packages/humanHippocampus2024 git_branch: devel git_last_commit: 5c00fb1 git_last_commit_date: 2025-01-14 18:13:05 -0500 (Tue, 14 Jan 2025)