Package: humanHippocampus2024 Version: 0.99.8 Command: /home/biocbuild/bbs-3.21-bioc/R/bin/R CMD build --keep-empty-dirs --no-resave-data humanHippocampus2024 StartedAt: 2025-02-04 11:24:38 -0500 (Tue, 04 Feb 2025) EndedAt: 2025-02-04 11:30:13 -0500 (Tue, 04 Feb 2025) EllapsedTime: 334.9 seconds RetCode: 0 Status: OK PackageFile: humanHippocampus2024_0.99.8.tar.gz PackageFileSize: 1.041 MiB