Package: humanHippocampus2024 Version: 0.99.8 Command: /home/biocbuild/bbs-3.21-bioc/R/bin/R CMD check --install=check:humanHippocampus2024.install-out.txt --library=/home/biocbuild/bbs-3.21-bioc/R/site-library --timings humanHippocampus2024_0.99.8.tar.gz StartedAt: 2025-02-04 12:14:52 -0500 (Tue, 04 Feb 2025) EndedAt: 2025-02-04 12:22:32 -0500 (Tue, 04 Feb 2025) EllapsedTime: 460.5 seconds RetCode: 0 Status: OK CheckDir: humanHippocampus2024.Rcheck Warnings: 0