Package: humanHippocampus2024 Version: 0.99.8 Command: /home/biocbuild/bbs-3.21-bioc/R/bin/R CMD INSTALL humanHippocampus2024 StartedAt: 2025-02-04 10:59:19 -0500 (Tue, 04 Feb 2025) EndedAt: 2025-02-04 10:59:42 -0500 (Tue, 04 Feb 2025) EllapsedTime: 22.7 seconds RetCode: 0 Status: OK