Package: metaMSdata Version: 1.43.0 Command: /home/biocbuild/bbs-3.21-bioc/R/bin/R CMD check --install=check:metaMSdata.install-out.txt --library=/home/biocbuild/bbs-3.21-bioc/R/site-library --timings metaMSdata_1.43.0.tar.gz StartedAt: 2025-02-13 12:22:04 -0500 (Thu, 13 Feb 2025) EndedAt: 2025-02-13 12:22:23 -0500 (Thu, 13 Feb 2025) EllapsedTime: 19.3 seconds RetCode: 0 Status: OK CheckDir: metaMSdata.Rcheck Warnings: 0