Package: metaMSdata Version: 1.43.0 Command: /home/biocbuild/bbs-3.21-bioc/R/bin/R CMD INSTALL metaMSdata StartedAt: 2025-02-06 10:55:34 -0500 (Thu, 06 Feb 2025) EndedAt: 2025-02-06 10:55:37 -0500 (Thu, 06 Feb 2025) EllapsedTime: 2.9 seconds RetCode: 0 Status: OK