Package: microbiomeDataSets Version: 1.15.0 Command: /home/biocbuild/bbs-3.21-bioc/R/bin/R CMD build --keep-empty-dirs --no-resave-data microbiomeDataSets StartedAt: 2025-02-06 11:29:34 -0500 (Thu, 06 Feb 2025) EndedAt: 2025-02-06 11:30:17 -0500 (Thu, 06 Feb 2025) EllapsedTime: 43.3 seconds RetCode: 0 Status: OK PackageFile: microbiomeDataSets_1.15.0.tar.gz PackageFileSize: 235 KiB