Package: msd16s Version: 1.27.0 Maintainer: Joseph N. Paulson MaintainerEmail: jpaulson at umiacs.umd.edu git_url: https://git.bioconductor.org/packages/msd16s git_branch: devel git_last_commit: 07e57c4 git_last_commit_date: 2024-10-29 09:39:16 -0500 (Tue, 29 Oct 2024)