Package: msd16s Version: 1.27.0 Command: /home/biocbuild/bbs-3.21-bioc/R/bin/R CMD check --install=check:msd16s.install-out.txt --library=/home/biocbuild/bbs-3.21-bioc/R/site-library --timings msd16s_1.27.0.tar.gz StartedAt: 2025-02-06 12:25:58 -0500 (Thu, 06 Feb 2025) EndedAt: 2025-02-06 12:26:37 -0500 (Thu, 06 Feb 2025) EllapsedTime: 38.6 seconds RetCode: 0 Status: OK CheckDir: msd16s.Rcheck Warnings: 0