Package: msdata Version: 0.47.0 Command: /home/biocbuild/bbs-3.21-bioc/R/bin/R CMD build --keep-empty-dirs --no-resave-data msdata StartedAt: 2025-02-06 11:30:31 -0500 (Thu, 06 Feb 2025) EndedAt: 2025-02-06 11:31:22 -0500 (Thu, 06 Feb 2025) EllapsedTime: 51.5 seconds RetCode: 0 Status: OK PackageFile: msdata_0.47.0.tar.gz PackageFileSize: 426.4 MiB