Package: mtbls2 Version: 1.37.0 Command: /home/biocbuild/bbs-3.21-bioc/R/bin/R CMD build --keep-empty-dirs --no-resave-data mtbls2 StartedAt: 2025-02-06 11:30:49 -0500 (Thu, 06 Feb 2025) EndedAt: 2025-02-06 11:32:05 -0500 (Thu, 06 Feb 2025) EllapsedTime: 76.0 seconds RetCode: 0 Status: OK PackageFile: mtbls2_1.37.0.tar.gz PackageFileSize: 183.1 MiB