Package: mtbls2 Version: 1.37.0 Command: /home/biocbuild/bbs-3.21-bioc/R/bin/R CMD INSTALL mtbls2 StartedAt: 2025-02-06 10:55:33 -0500 (Thu, 06 Feb 2025) EndedAt: 2025-02-06 10:56:11 -0500 (Thu, 06 Feb 2025) EllapsedTime: 38.0 seconds RetCode: 0 Status: OK