Package: oct4 Version: 1.23.0 Command: /home/biocbuild/bbs-3.21-bioc/R/bin/R CMD build --keep-empty-dirs --no-resave-data oct4 StartedAt: 2025-02-06 11:32:32 -0500 (Thu, 06 Feb 2025) EndedAt: 2025-02-06 11:32:46 -0500 (Thu, 06 Feb 2025) EllapsedTime: 14.4 seconds RetCode: 0 Status: OK PackageFile: oct4_1.23.0.tar.gz PackageFileSize: 192.9 MiB