Package: octad.db Version: 1.9.0 Maintainer: E. Chekalin MaintainerEmail: eygen.chekalin at gmail.com git_url: https://git.bioconductor.org/packages/octad.db git_branch: devel git_last_commit: 8170722 git_last_commit_date: 2024-10-29 09:54:19 -0500 (Tue, 29 Oct 2024)