Package: pd.atdschip.tiling Version: 0.45.0 Command: /home/biocbuild/bbs-3.21-bioc/R/bin/R CMD INSTALL pd.atdschip.tiling StartedAt: 2025-02-06 10:59:56 -0500 (Thu, 06 Feb 2025) EndedAt: 2025-02-06 10:59:57 -0500 (Thu, 06 Feb 2025) EllapsedTime: 1.0 seconds RetCode: 1 Status: ERROR