Package: prostateCancerCamcap Version: 1.35.0 Command: /home/biocbuild/bbs-3.21-bioc/R/bin/R CMD build --keep-empty-dirs --no-resave-data prostateCancerCamcap StartedAt: 2025-02-04 11:34:22 -0500 (Tue, 04 Feb 2025) EndedAt: 2025-02-04 11:34:50 -0500 (Tue, 04 Feb 2025) EllapsedTime: 27.9 seconds RetCode: 0 Status: OK PackageFile: prostateCancerCamcap_1.35.0.tar.gz PackageFileSize: 46.88 MiB