Package: prostateCancerVarambally Version: 1.35.0 Command: /home/biocbuild/bbs-3.21-bioc/R/bin/R CMD check --install=check:prostateCancerVarambally.install-out.txt --library=/home/biocbuild/bbs-3.21-bioc/R/site-library --timings prostateCancerVarambally_1.35.0.tar.gz StartedAt: 2025-02-06 12:32:23 -0500 (Thu, 06 Feb 2025) EndedAt: 2025-02-06 12:32:40 -0500 (Thu, 06 Feb 2025) EllapsedTime: 17.2 seconds RetCode: 0 Status: WARNINGS CheckDir: prostateCancerVarambally.Rcheck Warnings: 1