############################################################################## ############################################################################## ### ### Running command: ### ### /home/biocbuild/bbs-3.21-bioc/R/bin/R CMD build --keep-empty-dirs --no-resave-data pumadata ### ############################################################################## ############################################################################## * checking for file ‘pumadata/DESCRIPTION’ ... OK * preparing ‘pumadata’: * checking DESCRIPTION meta-information ... OK * installing the package to build vignettes ----------------------------------- ERROR: dependencies ‘puma’, ‘oligo’ are not available for package ‘pumadata’ Perhaps try a variation of: install.packages(c('puma', 'oligo')) * removing ‘/tmp/Rtmp4uSWiT/Rinst2a68dc7ac2ba13/pumadata’ ----------------------------------- ERROR: package installation failed