Package: pumadata Version: 2.43.0 Command: /home/biocbuild/bbs-3.21-bioc/R/bin/R CMD build --keep-empty-dirs --no-resave-data pumadata StartedAt: 2025-02-06 11:34:50 -0500 (Thu, 06 Feb 2025) EndedAt: 2025-02-06 11:34:51 -0500 (Thu, 06 Feb 2025) EllapsedTime: 1.0 seconds RetCode: 1 Status: ERROR PackageFile: None PackageFileSize: NA