Package: rcellminerData Version: 2.29.0 Command: /home/biocbuild/bbs-3.21-bioc/R/bin/R CMD build --keep-empty-dirs --no-resave-data rcellminerData StartedAt: 2025-02-04 11:35:06 -0500 (Tue, 04 Feb 2025) EndedAt: 2025-02-04 11:39:28 -0500 (Tue, 04 Feb 2025) EllapsedTime: 262.4 seconds RetCode: 0 Status: OK PackageFile: rcellminerData_2.29.0.tar.gz PackageFileSize: 371.6 MiB