Package: rcellminerData Version: 2.29.0 Command: /home/biocbuild/bbs-3.21-bioc/R/bin/R CMD check --install=check:rcellminerData.install-out.txt --library=/home/biocbuild/bbs-3.21-bioc/R/site-library --timings rcellminerData_2.29.0.tar.gz StartedAt: 2025-02-04 12:33:42 -0500 (Tue, 04 Feb 2025) EndedAt: 2025-02-04 12:37:38 -0500 (Tue, 04 Feb 2025) EllapsedTime: 236.3 seconds RetCode: 0 Status: WARNINGS CheckDir: rcellminerData.Rcheck Warnings: 2