Package: rheumaticConditionWOLLBOLD Version: 1.45.0 Maintainer: Alejandro Quiroz-Zarate MaintainerEmail: aquiroz at hsph.harvard.edu git_url: https://git.bioconductor.org/packages/rheumaticConditionWOLLBOLD git_branch: devel git_last_commit: 5aedc0d git_last_commit_date: 2024-10-29 09:29:19 -0500 (Tue, 29 Oct 2024)