Package: rheumaticConditionWOLLBOLD Version: 1.45.0 Command: /home/biocbuild/bbs-3.21-bioc/R/bin/R CMD build --keep-empty-dirs --no-resave-data rheumaticConditionWOLLBOLD StartedAt: 2025-02-04 11:36:03 -0500 (Tue, 04 Feb 2025) EndedAt: 2025-02-04 11:36:05 -0500 (Tue, 04 Feb 2025) EllapsedTime: 2.3 seconds RetCode: 0 Status: OK PackageFile: rheumaticConditionWOLLBOLD_1.45.0.tar.gz PackageFileSize: 20.76 MiB