Package: rheumaticConditionWOLLBOLD Version: 1.45.0 Command: /home/biocbuild/bbs-3.21-bioc/R/bin/R CMD INSTALL rheumaticConditionWOLLBOLD StartedAt: 2025-02-04 10:55:29 -0500 (Tue, 04 Feb 2025) EndedAt: 2025-02-04 10:55:31 -0500 (Tue, 04 Feb 2025) EllapsedTime: 1.6 seconds RetCode: 0 Status: OK