Package: sampleClassifierData Version: 1.31.0 Command: /home/biocbuild/bbs-3.21-bioc/R/bin/R CMD build --keep-empty-dirs --no-resave-data sampleClassifierData StartedAt: 2025-02-06 11:37:45 -0500 (Thu, 06 Feb 2025) EndedAt: 2025-02-06 11:38:11 -0500 (Thu, 06 Feb 2025) EllapsedTime: 26.0 seconds RetCode: 0 Status: OK PackageFile: sampleClassifierData_1.31.0.tar.gz PackageFileSize: 15.51 MiB