Package: sampleClassifierData Version: 1.31.0 Command: /home/biocbuild/bbs-3.21-bioc/R/bin/R CMD check --install=check:sampleClassifierData.install-out.txt --library=/home/biocbuild/bbs-3.21-bioc/R/site-library --timings sampleClassifierData_1.31.0.tar.gz StartedAt: 2025-02-06 12:39:33 -0500 (Thu, 06 Feb 2025) EndedAt: 2025-02-06 12:41:08 -0500 (Thu, 06 Feb 2025) EllapsedTime: 95.5 seconds RetCode: 0 Status: OK CheckDir: sampleClassifierData.Rcheck Warnings: 0