Package: sampleClassifierData Version: 1.31.0 Command: /home/biocbuild/bbs-3.21-bioc/R/bin/R CMD INSTALL sampleClassifierData StartedAt: 2025-02-13 10:58:59 -0500 (Thu, 13 Feb 2025) EndedAt: 2025-02-13 10:59:12 -0500 (Thu, 13 Feb 2025) EllapsedTime: 12.9 seconds RetCode: 0 Status: OK