Package: scATAC.Explorer Version: 1.13.0 Command: /home/biocbuild/bbs-3.21-bioc/R/bin/R CMD build --keep-empty-dirs --no-resave-data scATAC.Explorer StartedAt: 2025-02-06 11:38:11 -0500 (Thu, 06 Feb 2025) EndedAt: 2025-02-06 11:38:50 -0500 (Thu, 06 Feb 2025) EllapsedTime: 38.4 seconds RetCode: 0 Status: OK PackageFile: scATAC.Explorer_1.13.0.tar.gz PackageFileSize: 247.8 KiB