Package: scRNAseq Version: 2.21.1 Command: /home/biocbuild/bbs-3.21-bioc/R/bin/R CMD build --keep-empty-dirs --no-resave-data scRNAseq StartedAt: 2025-02-04 11:38:50 -0500 (Tue, 04 Feb 2025) EndedAt: 2025-02-04 11:39:59 -0500 (Tue, 04 Feb 2025) EllapsedTime: 69.0 seconds RetCode: 0 Status: OK PackageFile: scRNAseq_2.21.1.tar.gz PackageFileSize: 304.4 KiB