Package: scRNAseq Version: 2.21.1 Command: /home/biocbuild/bbs-3.21-bioc/R/bin/R CMD INSTALL scRNAseq StartedAt: 2025-02-04 11:00:47 -0500 (Tue, 04 Feb 2025) EndedAt: 2025-02-04 11:01:31 -0500 (Tue, 04 Feb 2025) EllapsedTime: 43.2 seconds RetCode: 0 Status: OK