Package: seqc Version: 1.41.0 Command: /home/biocbuild/bbs-3.21-bioc/R/bin/R CMD build --keep-empty-dirs --no-resave-data seqc StartedAt: 2025-02-06 11:38:59 -0500 (Thu, 06 Feb 2025) EndedAt: 2025-02-06 11:41:05 -0500 (Thu, 06 Feb 2025) EllapsedTime: 125.9 seconds RetCode: 0 Status: OK PackageFile: seqc_1.41.0.tar.gz PackageFileSize: 179.1 MiB