Package: shinyMethylData Version: 1.27.0 Command: /home/biocbuild/bbs-3.21-bioc/R/bin/R CMD INSTALL shinyMethylData StartedAt: 2025-02-13 10:55:53 -0500 (Thu, 13 Feb 2025) EndedAt: 2025-02-13 10:56:08 -0500 (Thu, 13 Feb 2025) EllapsedTime: 15.4 seconds RetCode: 0 Status: OK