Package: smokingMouse Version: 1.5.1 Command: /home/biocbuild/bbs-3.21-bioc/R/bin/R CMD build --keep-empty-dirs --no-resave-data smokingMouse StartedAt: 2025-02-06 11:40:04 -0500 (Thu, 06 Feb 2025) EndedAt: 2025-02-06 11:40:31 -0500 (Thu, 06 Feb 2025) EllapsedTime: 26.1 seconds RetCode: 0 Status: OK PackageFile: smokingMouse_1.5.1.tar.gz PackageFileSize: 5.108 MiB