Package: smokingMouse Version: 1.5.1 Command: /home/biocbuild/bbs-3.21-bioc/R/bin/R CMD INSTALL smokingMouse StartedAt: 2025-02-13 10:55:10 -0500 (Thu, 13 Feb 2025) EndedAt: 2025-02-13 10:55:12 -0500 (Thu, 13 Feb 2025) EllapsedTime: 2.0 seconds RetCode: 0 Status: OK