Package: tartare Version: 1.21.0 Command: /home/biocbuild/bbs-3.21-bioc/R/bin/R CMD INSTALL tartare StartedAt: 2025-02-06 10:57:19 -0500 (Thu, 06 Feb 2025) EndedAt: 2025-02-06 10:57:32 -0500 (Thu, 06 Feb 2025) EllapsedTime: 13.0 seconds RetCode: 0 Status: OK