Package: tinesath1probe Version: 1.45.0 Maintainer: Tine Casneuf MaintainerEmail: tine at ebi.ac.uk git_url: https://git.bioconductor.org/packages/tinesath1probe git_branch: devel git_last_commit: 1e7ffd6 git_last_commit_date: 2024-10-29 09:26:52 -0500 (Tue, 29 Oct 2024)