Package: tinesath1probe Version: 1.45.0 Command: /home/biocbuild/bbs-3.21-bioc/R/bin/R CMD check --install=check:tinesath1probe.install-out.txt --library=/home/biocbuild/bbs-3.21-bioc/R/site-library --timings tinesath1probe_1.45.0.tar.gz StartedAt: 2025-02-06 12:51:08 -0500 (Thu, 06 Feb 2025) EndedAt: 2025-02-06 12:52:01 -0500 (Thu, 06 Feb 2025) EllapsedTime: 52.9 seconds RetCode: 0 Status: WARNINGS CheckDir: tinesath1probe.Rcheck Warnings: 1