Package: tinesath1probe Version: 1.45.0 Command: /home/biocbuild/bbs-3.21-bioc/R/bin/R CMD INSTALL tinesath1probe StartedAt: 2025-02-06 10:56:46 -0500 (Thu, 06 Feb 2025) EndedAt: 2025-02-06 10:56:54 -0500 (Thu, 06 Feb 2025) EllapsedTime: 8.2 seconds RetCode: 0 Status: OK