Package: tofsimsData Version: 1.35.0 Command: /home/biocbuild/bbs-3.21-bioc/R/bin/R CMD build --keep-empty-dirs --no-resave-data tofsimsData StartedAt: 2025-02-13 11:43:42 -0500 (Thu, 13 Feb 2025) EndedAt: 2025-02-13 11:43:50 -0500 (Thu, 13 Feb 2025) EllapsedTime: 8.0 seconds RetCode: 0 Status: OK PackageFile: tofsimsData_1.35.0.tar.gz PackageFileSize: 10.5 MiB