Package: topdownrdata Version: 1.29.0 Maintainer: Sebastian Gibb MaintainerEmail: mail at sebastiangibb.de git_url: https://git.bioconductor.org/packages/topdownrdata git_branch: devel git_last_commit: c4f7a05 git_last_commit_date: 2024-10-29 09:47:17 -0500 (Tue, 29 Oct 2024)