Package: BiocMetaWorkflow Version: 1.29.1 Maintainer: Mike Smith MaintainerEmail: grimbough at gmail.com git_url: https://git.bioconductor.org/packages/BiocMetaWorkflow git_branch: devel git_last_commit: 0dfafc1 git_last_commit_date: 2024-11-14 11:42:55 -0500 (Thu, 14 Nov 2024)