Package: BiocMetaWorkflow Version: 1.29.1 Command: /Library/Frameworks/R.framework/Resources/bin/R CMD INSTALL BiocMetaWorkflow StartedAt: 2025-02-11 13:00:18 -0500 (Tue, 11 Feb 2025) EndedAt: 2025-02-11 13:00:22 -0500 (Tue, 11 Feb 2025) EllapsedTime: 4.0 seconds RetCode: 1 Status: ERROR