############################################################################## ############################################################################## ### ### Running command: ### ### /home/biocbuild/bbs-3.21-bioc/R/bin/R CMD build --keep-empty-dirs --no-resave-data BiocMetaWorkflow ### ############################################################################## ############################################################################## * checking for file ‘BiocMetaWorkflow/DESCRIPTION’ ... OK * preparing ‘BiocMetaWorkflow’: * checking DESCRIPTION meta-information ... OK * installing the package to build vignettes ----------------------------------- * installing *source* package ‘BiocMetaWorkflow’ ... ** this is package ‘BiocMetaWorkflow’ version ‘1.29.1’ ** using staged installation ERROR: a 'NAMESPACE' file is required * removing ‘/tmp/RtmpCwOTiD/Rinst2d51cd7905e7c7/BiocMetaWorkflow’ ----------------------------------- ERROR: package installation failed