Package: BiocMetaWorkflow Version: 1.29.1 Command: /home/biocbuild/bbs-3.21-bioc/R/bin/R CMD build --keep-empty-dirs --no-resave-data BiocMetaWorkflow StartedAt: 2025-02-07 13:04:19 -0500 (Fri, 07 Feb 2025) EndedAt: 2025-02-07 13:04:20 -0500 (Fri, 07 Feb 2025) EllapsedTime: 1.0 seconds RetCode: 1 Status: ERROR PackageFile: None PackageFileSize: NA